BEGIN:VCALENDAR
VERSION:2.0
PRODID:-//GREC-HDF - ECPv6.15.20//NONSGML v1.0//EN
CALSCALE:GREGORIAN
METHOD:PUBLISH
X-WR-CALNAME:GREC-HDF
X-ORIGINAL-URL:https://www.grec-hautsdefrance.fr
X-WR-CALDESC:Évènements pour GREC-HDF
REFRESH-INTERVAL;VALUE=DURATION:PT1H
X-Robots-Tag:noindex
X-PUBLISHED-TTL:PT1H
BEGIN:VTIMEZONE
TZID:Europe/Paris
BEGIN:DAYLIGHT
TZOFFSETFROM:+0100
TZOFFSETTO:+0200
TZNAME:CEST
DTSTART:20240331T010000
END:DAYLIGHT
BEGIN:STANDARD
TZOFFSETFROM:+0200
TZOFFSETTO:+0100
TZNAME:CET
DTSTART:20241027T010000
END:STANDARD
BEGIN:DAYLIGHT
TZOFFSETFROM:+0100
TZOFFSETTO:+0200
TZNAME:CEST
DTSTART:20250330T010000
END:DAYLIGHT
BEGIN:STANDARD
TZOFFSETFROM:+0200
TZOFFSETTO:+0100
TZNAME:CET
DTSTART:20251026T010000
END:STANDARD
BEGIN:DAYLIGHT
TZOFFSETFROM:+0100
TZOFFSETTO:+0200
TZNAME:CEST
DTSTART:20260329T010000
END:DAYLIGHT
BEGIN:STANDARD
TZOFFSETFROM:+0200
TZOFFSETTO:+0100
TZNAME:CET
DTSTART:20261025T010000
END:STANDARD
END:VTIMEZONE
BEGIN:VEVENT
DTSTART;TZID=Europe/Paris:20251216T170000
DTEND;TZID=Europe/Paris:20251216T183000
DTSTAMP:20260424T173653
CREATED:20251127T104630Z
LAST-MODIFIED:20251127T112227Z
UID:814-1765904400-1765909800@www.grec-hautsdefrance.fr
SUMMARY:Conférence "Imprévisible\, urgence et méthane"\, Marc Delepouve.
DESCRIPTION:Le 16 décembre 2025 se tiendra la première conférence organisée par le GREC Hauts-de-France :        \n\n\n\n« Imprévisible\, urgence et méthane »  \n\n\n\ndispensée par Marc Delepouve. \n\n\n\nMarc Delepouve est Professeur agrégé de mathématiques à l’Université de Lille\, secrétaire général de l’association altermondialiste ATTAC de 2006 à 2009\, puis responsable international d’un syndicat universitaire\, s’est intéressé depuis le début des années 2000 à l’évaluation et à la scénarisation du changement climatique. Ses travaux l’on conduit à réaliser une thèse de doctorat en Histoire des sciences techniques au Centre National des Arts et Métiers. Il y propose une analyse sociohistorique et épistémologique des activités et rapports du GIEC (Groupe d’Experts Intergouvernemental sur l’évolution du Climat)\, et particulièrement une mise en perspective critique remarquable des RID (Résumés à l’Intention des Décideurs). \n\n\n\nDurant cette conférence\, il présentera brièvement les modèles climatiques et reviendra sur les contextes dans lesquels ils ont été pensés. Dans un deuxième temps\, sera abordée la question de l’urgence avec un point d’attention fait sur le méthane\, gaz à effet de serre.  \n\n\n\n \n\n\n\nProgramme détaillé : I. Modèles climatiques : la quantification et l’imprévisible  Brève présentation des modèles climatiques Quantophrénie et politiques climatiques : contexte idéologique et contrainte internationale Sous-estimation du risque : des phénomènes largement imprévisibles et non quantifiables ne sont pas pris en compte Pertinence du choix du scénario 8.5II. L’urgence et la voie du méthane Poids des principaux gaz à effet de serre\, et réactivités respectives de la réduction de leurs émissions Les deux prochaines décennies et le risque d’un emballement du réchauffement La solution sans risque\, le méthane Déclinaison dans les Hauts-de-France\n\n\n\nLa conférence se tiendra à 17h dans la salle des Colloques\, Maison de la Recherche\, 9 rue du Temple\, au sein de l’Université d’Artois\, à Arras.  \n\n\n\nPour participer à l’événement (inscription gratuite) : https://evento.renater.fr/survey/conference-marc-dele…-t3y5xkee
URL:https://www.grec-hautsdefrance.fr/event/conference/
LOCATION:Salle des colloques de la Maison de la recherche (Bât.I)\, 9 rue du Temple\, Arras\, 62000\, France
CATEGORIES:Actualités
ATTACH;FMTTYPE=image/jpeg:https://www.grec-hautsdefrance.fr/wp-content/uploads/2025/11/Conf_imprevisible_urgence_methane.jpg
END:VEVENT
BEGIN:VEVENT
DTSTART;TZID=Europe/Paris:20251205T100000
DTEND;TZID=Europe/Paris:20251205T120000
DTSTAMP:20260424T173653
CREATED:20251114T104944Z
LAST-MODIFIED:20251117T145812Z
UID:806-1764928800-1764936000@www.grec-hautsdefrance.fr
SUMMARY:Présentation du projet Climaax aux parties prenantes.
DESCRIPTION:Suite au lancement des projets ATLAS (Adaptation for Territories and Long-term Actions against climate Shift) par la Région HdF et GREEN 59 (Gestion Responsable Et Environnemental du Nord) par le Département du Nord\, dans le cadre de l’appel à projet européen CLIMAAX sur les vulnérabilités des territoires\, la Région\, le Département du Nord et le GREC HdF organisent un deuxième temps d’échange le 5 décembre 2025 de 10 à 12h dans les locaux du Département (salle B200 au Nouveau Forum 49 rue Gustave Delory à Lille) et en visio conférence. \n\n\n\nCe temps d’échanges fait suite au webinaire introductif du 17 juillet 2025 (retrouver toutes les informations et le support de présentation ici). \n\n\n\nLors de cette réunion\, seront présentés les premiers résultats de modélisation obtenus grâce à l’outil CLIMAAX et les enjeux de la phase 2 des deux projets. \n\n\n\nCette phase 2 vise à affiner les projections et les analyses des risques sur ces territoires en termes de pluies extrêmes\, d’inondations fluviales et côtières et de vagues de chaleur. \n\n\n\nPour cela\, nous avons besoins des acteurs territoriaux\, pour\, à la fois enrichir les bases de données utilisées mais également\, pour préciser les seuils de risques en fonction de la réalité de vos territoires. \n\n\n\nLes équipes projet ont besoin de mobiliser les parties prenantes du territoire (experts\, collectivités territoriales) pour réaliser le travail d’affinement des données notamment à partir d’événements passés. Nous vous invitons donc à vous mobiliser en répondant à ce questionnaire (merci d’y répondre de façon concertée pour votre structure\, une réponse par structure maximum attendue). \n\n\n\nL’événement est sur inscription\, via le formulaire suivant : https://evento.renater.fr/survey/presentation-du-projet-et-echanges-sur-le-projet-climaax-2iebcpnr
URL:https://www.grec-hautsdefrance.fr/event/presentation-du-projet-climaax-aux-parties-prenantes/
LOCATION:Nouveau Forum du département du Nord\, 49 rue Gustave Delory\, Lille
ATTACH;FMTTYPE=image/png:https://www.grec-hautsdefrance.fr/wp-content/uploads/2025/10/telechargement.png
END:VEVENT
BEGIN:VEVENT
DTSTART;TZID=Europe/Paris:20251124T083000
DTEND;TZID=Europe/Paris:20251124T123000
DTSTAMP:20260424T173653
CREATED:20251024T132148Z
LAST-MODIFIED:20251024T132258Z
UID:763-1763973000-1763987400@www.grec-hautsdefrance.fr
SUMMARY:Sprint collaboratif - Ville de Lille et Université de Lille
DESCRIPTION:Face aux défis environnementaux actuels\, la transition écologique ne peut se faire qu’en conjuguant les s avoirs\, les expériences et les volontés.  \n\n\n\nL’ITES\, le GREC HDF et la Boutique des sciences de l’Université et la Ville de Lille s’associent pour une rencontre dédiée à la création et au renforcement de coopérations entre le monde universitaire et les politiques publiques locales autour des grands enjeux environnementaux. Cet événement a pour ambition de créer des passerelles durables entre recherche et action publique afin de construire ensemble un espace de dialogue pour penser collectivement les politiques environnementales locales en s’appuyant sur les connaissances issues de la recherche. \n\n\n\nAu programme\, une série de pitch par les services de la ville de Lille sur des propositions concrètes de coopération\, des partages d’expérience et des travaux communs pour imaginer ensemble les prochaines étapes. \n\n\n\nInscription : https://framaforms.org/24-novembre-2025-matinee-ville-de-lille-universite-de-lille-1759397911
URL:https://www.grec-hautsdefrance.fr/event/sprint-collaboratif-ville-de-lille-et-universite-de-lille/
LOCATION:Siège de l’Université de Lille\, 42 rue Paul Duez\, Lille\, Salle 028
ATTACH;FMTTYPE=image/png:https://www.grec-hautsdefrance.fr/wp-content/uploads/2025/10/Affiche-ITESVille-de-Lille-2.png
END:VEVENT
BEGIN:VEVENT
DTSTART;TZID=Europe/Paris:20251120T000000
DTEND;TZID=Europe/Paris:20251120T235959
DTSTAMP:20260424T173653
CREATED:20251024T124829Z
LAST-MODIFIED:20251029T101541Z
UID:757-1763596800-1763683199@www.grec-hautsdefrance.fr
SUMMARY:Midi des transitions. Les contributions des solutions fondées sur la nature dans l'urbanisme.
DESCRIPTION:Quel rôle pour les écosystèmes dans la conception de nos villes de demain? Ce Midi des Transitions est organisé par l’Institut des Transitions Environnementales et Sociales et par le GREC HDF. \n\n\n\nProgramme : \n\n\n\n\nAnna Kurianowicz\, doctorante en urbanisme à la Silesian University of Technology (Pologne) présentera son projet de thèse sur l’intégration des écosystèmes dans la planification urbaine ainsi que les premiers résultats de sa recherche. (La présentation se fera entièrement en anglais).\n\n\n\nDes acteurs de la ville de Lille\, de la MEL et du Bassin Minier partageront leurs expériences concrètes et leur manière de concevoir le concept de solutions basées sur la nature.\n\n\n\n\nFormulaire d’inscription : https://framaforms.org/inscription-midi-des-transitions-les-solutions-fondees-sur-la-nature-dans-urbanisme-20-novembre.
URL:https://www.grec-hautsdefrance.fr/event/midi-des-transitions-les-contributions-des-solutions-fondees-sur-la-nature-dans-lurbanisme/
ATTACH;FMTTYPE=application/pdf:https://www.grec-hautsdefrance.fr/wp-content/uploads/2025/10/Midi-des-Transitions-ITES-GREC-Territoires-2.pdf
END:VEVENT
BEGIN:VEVENT
DTSTART;TZID=Europe/Paris:20251117T080000
DTEND;TZID=Europe/Paris:20251125T170000
DTSTAMP:20260424T173653
CREATED:20251107T145513Z
LAST-MODIFIED:20251113T144026Z
UID:784-1763366400-1764090000@www.grec-hautsdefrance.fr
SUMMARY:10 Ans de l'Accord de Paris
DESCRIPTION:Sciences Po Lille\, avec ses partenaires la Ville de Lille\, Light Motiv\, le GREC HdF et le programme Foresee\, organise du 17 au 25 novembre une série d’évènements à l’occasion des 10 ans de la COP 21 et de l’Accord de Paris.  \n\n\n\nTrois dimensions sont mobilisées pour appréhender cet anniversaire: \n\n\n\n\nune dimension artistique\, avec une exposition intitulée « Pour une poignée de degrés ». Créée il y a 10 ans à l’occasion de la COP 21 par Light Motiv et la MRES\, l’exposition a été complétée pour l’occasion et sera exposée dans sa version magnétique\, qui permet d’en avoir une approche personnelle\, subjective et participative. L’exposition sera installée à Sciences Po Lille du 17  (après-midi) au 21 novembre (détails ici). Vernissage participatif le 18 novembre à 18h (inscription ici. Deux séances de médiation ouvertes au grand public se tiendront le 20 novembre (14h30-16h30 et 17h-19h\, détails et inscription ici).\n\n\n\n\n\nune dimension scientifique\, avec un séminaire le vendredi 21 novembre organisé avec le programme Foresee : Le contrat social à l’épreuve des conséquences du changement climatique. Avec Isabelle Bruno : Le « désir de rivage » sous contrainte écologique : l’accès aux plages entre inégalités environnementales et protection du littoral (présentation du BeachAccess Network). Et Magali Dreyfus : Observer les inégalités environnementales à partir des procès portant sur des projets d’énergies renouvelables. Détails et inscription ici :\n\n\n\n\n\nune dimension métiers\, avec une table-ronde le mardi 25 novembre à 18h\, rassemblant des acteurs professionnels et militants des négociations environnementales internationales biodiversité et climat. Comment se passent concrètement ces grands évènements ? Que peut-on réellement négocier ? Quelles sont les ficelles du métier ? Détails très prochainement ici.
URL:https://www.grec-hautsdefrance.fr/event/10-ans-de-laccord-de-paris/
ATTACH;FMTTYPE=image/jpeg:https://www.grec-hautsdefrance.fr/wp-content/uploads/2025/11/Carton-Invitation_PPDD-FSI_Lille_2025_2-final-scaled.jpg
END:VEVENT
BEGIN:VEVENT
DTSTART;TZID=Europe/Paris:20251113T203000
DTEND;TZID=Europe/Paris:20251113T220000
DTSTAMP:20260424T173653
CREATED:20251024T094450Z
LAST-MODIFIED:20251024T094925Z
UID:749-1763065800-1763071200@www.grec-hautsdefrance.fr
SUMMARY:Regars d’Experts - Le monde en 2049
DESCRIPTION:A l’occasion d’un regard d’expert et en ouverture de la COP30\, la MRES propose un temps de réflexion à l’occasion de la sortie du nouvel ouvrage de Nathanael Wallenorst : « 2049 Ce que le climat va faire à l’Europe » (Seuil) \n\n\n\nL’auteur explore en particulier la question des points de bascule (tipping points)\, ces moments où le climat va passer des seuils critiques et où des changements durables et irréversibles vont se produire. \n\n\n\nLe débat sera complété par Gabriel Mazzilli\, doctorant au laboratoire Territoires\, Villes\, Environnement et Santé (TVES)\, membre du GREC HDF.
URL:https://www.grec-hautsdefrance.fr/event/regars-dexperts-le-monde-en-2049/
LOCATION:MRES\, 5 rue Jules de Vicq\, 59000 Lille
ATTACH;FMTTYPE=image/png:https://www.grec-hautsdefrance.fr/wp-content/uploads/2025/03/siteon0.png
ORGANIZER;CN="Maison R%C3%A9gionale de l&rsquo%3BEnvironnement et des Solidarit%C3%A9s":MAILTO:n.lescieux@mres-asso.fr
END:VEVENT
BEGIN:VEVENT
DTSTART;TZID=Europe/Paris:20251106T133000
DTEND;TZID=Europe/Paris:20251106T144500
DTSTAMP:20260424T173653
CREATED:20251024T093118Z
LAST-MODIFIED:20251024T094904Z
UID:743-1762435800-1762440300@www.grec-hautsdefrance.fr
SUMMARY:Série de webinaires sur la « Biodiversité : des solutions vivantes pour des villes durables ».
DESCRIPTION:Face aux défis climatiques et sociaux\, repenser l’urbanisme à travers la nature est une nécessité.Le CNFPT et le Groupe sur l’Urbanisme Écologique (GrUE) vous proposent une série de 5 webinaires pour explorer des pistes concrètes et inspirantes. \n\n\n\nJeudi 06 novembre : Nature & prévention des risques climatiques en villeJeudi 20 novembre : Espèces invasives en ville : pour quelles perspectives d’aménagement et de gestion ?Jeudi 27 novembre : Mobilités douces & biodiversité : un duo gagnant \n\n\n\nTous les webinaires sont enregistrés et seront proposés en replay aux personnes inscrites. \n\n\n\nProgrammes et inscription (gratuite) : https://www.cnfpt.fr/se-former/se-former-autrement/participer-a-nos-evenements/biodiversite-solutions-vivantes-villes-durables/inset-montpellier
URL:https://www.grec-hautsdefrance.fr/event/serie-de-webinaires-sur-la-biodiversite-des-solutions-vivantes-pour-des-villes-durables/
CATEGORIES:Externe
ATTACH;FMTTYPE=image/png:https://www.grec-hautsdefrance.fr/wp-content/uploads/2025/10/image_33.png
END:VEVENT
BEGIN:VEVENT
DTSTART;TZID=Europe/Paris:20251016T080000
DTEND;TZID=Europe/Paris:20251016T170000
DTSTAMP:20260424T173653
CREATED:20250903T092210Z
LAST-MODIFIED:20250903T100032Z
UID:715-1760601600-1760634000@www.grec-hautsdefrance.fr
SUMMARY:Journées SHS Valo de la Maison Européennes des Sciences Humaines et Sociales (MESHS). Journée 1/3.
DESCRIPTION:Les Journées SHS Valo en Hauts-de-France sont un rendez-vous régional annuel itinérant réunissant différents acteurs (chercheurs\, doctorants\, entreprises\, collectivités\, associations\, etc.). Soutenues depuis leur création en 2018 par le Conseil Régional Hauts-de-France\, ces rencontres scientifiques et professionnelles visent à échanger sur les pratiques\, nouer des liens et développer des partenariats nouveaux. Ces journées ont pour ambition également\, à partir d’exemples de projets de recherche partenariaux financés par la MESHS et/ou par les universités du territoire\, souvent co-financés par des partenaires complémentaires\, de mettre en avant les bonnes pratiques de valorisation et de co-construction des recherches en SHS\, dans des disciplines variées. \n\n\n\nPlus d’informations ici et programme détaillé à venir.
URL:https://www.grec-hautsdefrance.fr/event/journees-shs-valo-de-la-maison-europeennes-des-sciences-humaines-et-sociales-meshs-journee-1-3/
CATEGORIES:Externe
ATTACH;FMTTYPE=image/png:https://www.grec-hautsdefrance.fr/wp-content/uploads/2025/03/logo-w.png
END:VEVENT
BEGIN:VEVENT
DTSTART;TZID=Europe/Paris:20251013T080000
DTEND;TZID=Europe/Paris:20251015T170000
DTSTAMP:20260424T173653
CREATED:20250903T091039Z
LAST-MODIFIED:20250903T124144Z
UID:710-1760342400-1760547600@www.grec-hautsdefrance.fr
SUMMARY:Forum de Recherche sur l'Innovation (RRI).
DESCRIPTION:Le Forum Innovation est organisé chaque année par le Réseau de Recherche sur l’Innovation (RRI)\, pour explorer comment les sciences économiques et de gestion\, et plus largement les sciences sociales ou de l’ingénieur\, abordent de nouveaux enjeux\, processus ou domaines de l’innovation. \n\n\n\nLors de cet événement le GREC Hauts-de-France présentera son organisation\, son fonctionnement et ses objectifs.
URL:https://www.grec-hautsdefrance.fr/event/forum-de-recherche-sur-linnovation-rri/
CATEGORIES:Externe
ATTACH;FMTTYPE=image/png:https://www.grec-hautsdefrance.fr/wp-content/uploads/2025/09/FIRRI2025-724x1024-1.png
END:VEVENT
BEGIN:VEVENT
DTSTART;TZID=Europe/Paris:20251001T100000
DTEND;TZID=Europe/Paris:20251001T120000
DTSTAMP:20260424T173653
CREATED:20250820T133150Z
LAST-MODIFIED:20250903T093557Z
UID:596-1759312800-1759320000@www.grec-hautsdefrance.fr
SUMMARY:Webinaire de la DDTM - Adaptation au changement climatique
DESCRIPTION:Face aux urgences climatiques\, environnementales et énergétiques\, la France s’est engagée dans une trajectoire ambitieuse de planification écologique avec pour objectif de réduire ses émissions de gaz à effet de serre\, à préserver la biodiversité et à mieux gérer les ressources naturelles. \nCette stratégie nationale s’est enrichie en mars 2025 d’un Plan National d’Adaptation au Changement Climatique (le PNACC) fondé sur une trajectoire de référence dite TRACC. \nEn région Hauts-de-France\, cette démarche a été déclinée à travers la COP régionale\, lancée en décembre 2023 et traduite en janvier 2025 dans une feuille de route territorialisée consultable ici. \nAfin de prolonger cette dynamique au plus près des réalités locales\, la Direction Départementale des Territoires et de la Mer (DDTM) du Nord organise un webinaire départemental sur l’adaptation au changement climatique\, le 1er octobre 2025\, de 10h à 12h. \nLe webinaire a pour objectif de partager les éléments de connaissance disponibles à date sur les évolutions climatiques attendues et leurs effets\, les croiser avec les enjeux du département\, et sélectionner avec les collectivités les priorités d’adaptation pour le Nord. \nPour participer à la réunion en visio\, merci de prendre contact avec Nicolas LEGENDA (Conseil aux territoires\, ingénierie et partenariat pour la territorialisation départementale de la planification écologique\, nicolas.legenda@nord.gouv.fr
URL:https://www.grec-hautsdefrance.fr/event/596/
CATEGORIES:Externe
ATTACH;FMTTYPE=image/jpeg:https://www.grec-hautsdefrance.fr/wp-content/uploads/2025/08/telechargement-3.jpg
END:VEVENT
BEGIN:VEVENT
DTSTART;VALUE=DATE:20250916
DTEND;VALUE=DATE:20250917
DTSTAMP:20260424T173653
CREATED:20250820T135151Z
LAST-MODIFIED:20250903T092349Z
UID:603-1757980800-1758067199@www.grec-hautsdefrance.fr
SUMMARY:Séminaire interne Ville de Lille
DESCRIPTION:Le 16 Septembre\, Coralie Schoemaecker\, membre du comité de structuration du GREC et Nathalie Wierre\, coordinatrice du GREC HDF\, interviendront lors d’un séminaire proposés aux agents des directions Mission Transition Ecologique et Résilience et Cadre de Vie Mobilité de la Ville de Lille.\nL’objectif : faire en sorte que le service Cadre de Vie Mobilité intègre mieux la transition écologique dans ses projets et dans son quotidien. Ceci par une prise une conscience de la problématique\, y compris à un niveau régional ou lillois.\n\nL’équipe du GREC introduira les enjeux liés au changement climatique et les impacts concrets sur notre quotidien et nos villes. Le GREC présentera une approche globale mais également des problématiques plus locales.\n\nDes sujets en lien avec l’aménagement des espaces publics seront abordés comme\, l’eau\, les risques d’inondation\, la perte de la biodiversité\, les ilots de chaleur ou encore la pollution de l’air.\n\nA la suite de l’intervention du GREC\, les agents participeront à un world café sur les outils permettant d’accompagner le service cadre de vie en vue d’intégrer la transition écologique dans le quotidien.
URL:https://www.grec-hautsdefrance.fr/event/seminaire-interne-ville-de-lille/
LOCATION:Maison des Mobilités Durables\, 188 allée de Liège\, Lille\, 59777
CATEGORIES:Externe
ATTACH;FMTTYPE=image/png:https://www.grec-hautsdefrance.fr/wp-content/uploads/2025/08/logo.png
END:VEVENT
BEGIN:VEVENT
DTSTART;TZID=Europe/Paris:20250904T093000
DTEND;TZID=Europe/Paris:20250904T160000
DTSTAMP:20260424T173653
CREATED:20250903T090420Z
LAST-MODIFIED:20250903T124305Z
UID:705-1756978200-1757001600@www.grec-hautsdefrance.fr
SUMMARY:Séminaire de l'ADEME. La recherche et l'Innovation : des outils incontournables pour faire face à la submersion marine.
DESCRIPTION:Le pôle Recherche\, Développement Et Innovation de la Direction régionale de l’ADEME dans les Hauts-de-France organise le 4 septembre un séminaire afin de voir comment la recherche et l’innovation peuvent accompagner les territoires littoraux menacés par la submersion marine. Durant ce séminaire\, différents acteurs engagés dans l’adaptation au changement climatique présenteront leur travaux ainsi que leur rôle dans la lutte contre les risques côtiers.
URL:https://www.grec-hautsdefrance.fr/event/seminaire-de-lademe-la-recherche-et-linnovation-des-outils-incontournables-pour-faire-face-a-la-submersion-marine/
CATEGORIES:Externe
ATTACH;FMTTYPE=application/pdf:https://www.grec-hautsdefrance.fr/wp-content/uploads/2025/09/Affiche-seminaire-pole-transversal-RDI-ADEME-4-septembre-25.pdf
END:VEVENT
BEGIN:VEVENT
DTSTART;TZID=Europe/Paris:20250822T213000
DTEND;TZID=Europe/Paris:20250823T000000
DTSTAMP:20260424T173653
CREATED:20250818T134305Z
LAST-MODIFIED:20250819T083721Z
UID:570-1755898200-1755907200@www.grec-hautsdefrance.fr
SUMMARY:Vidéo mapping à Mers-les-bains
DESCRIPTION:Le 31 janvier 2025\, le GREC a mené\, en collaboration avec la Boutique des Sciences un atelier participatif\nentre divers partis prenantes (élus\, techniciens des collectivités\, habitants\, associations\, artistes\,\netc…) afin de faire remonter la représentation qu’ont ces parties prenantes sur les enjeux\nclimatiques de leur territoire. L’objectif est de nourrir la réflexion de 3 artistes spécialisés dans les\narts et technologies\, image et musique et photographie qui réaliseront un vidéo mapping projeté\nà Mers-les-Bains les 22 et 23 août 2025. Un deuxième débat local sera organisé le 23 août. \nLe Video Mapping Festival vous propose une déambulation\nle long de l’esplanade de Mers-les-Bains\, pour découvrir\ndes créations sur les façades des villas du front de mer qui\nmettent en lumière et interrogent la problématique du recul\ndu trait de côte sous un angle artistique\, réalisées par une\nartiste mapping\, un photographe et une compositrice à partir\nde discussions menées avec des expert·e·s et habitant·e·s. \nEn lien avec ce parcours\, participez à une après-midi\nautour de l’impact du recul du trait de côte en Baie de\nSomme. Au programme : atelier découverte\, rencontres\net expérimentations artistiques pour plonger dans les\ncoulisses du video mapping\, ouvrir une réflexion artistique\net engagée sur les enjeux climatiques en Baie de Somme\,\net réfléchir collectivement à de nouveaux récits artistiques\nsur l’avenir du littoral. \n  \n 
URL:https://www.grec-hautsdefrance.fr/event/video-mapping-a-mers-les-bains/
LOCATION:Mers-les-Bains\, Esplanade du Général Leclerc\, Mers-les-bains\, 80350
ATTACH;FMTTYPE=application/pdf:https://www.grec-hautsdefrance.fr/wp-content/uploads/2025/08/VMF25_MERS-LES-BAINS_affiche-2.pdf
END:VEVENT
END:VCALENDAR